BEGIN:VCALENDAR
VERSION:2.0
PRODID:-//Safe Hands Rescue - ECPv6.15.20//NONSGML v1.0//EN
CALSCALE:GREGORIAN
METHOD:PUBLISH
X-ORIGINAL-URL:https://safehandsrescue.org
X-WR-CALDESC:Events for Safe Hands Rescue
REFRESH-INTERVAL;VALUE=DURATION:PT1H
X-Robots-Tag:noindex
X-PUBLISHED-TTL:PT1H
BEGIN:VTIMEZONE
TZID:America/Chicago
BEGIN:DAYLIGHT
TZOFFSETFROM:-0600
TZOFFSETTO:-0500
TZNAME:CDT
DTSTART:20200308T080000
END:DAYLIGHT
BEGIN:STANDARD
TZOFFSETFROM:-0500
TZOFFSETTO:-0600
TZNAME:CST
DTSTART:20201101T070000
END:STANDARD
BEGIN:DAYLIGHT
TZOFFSETFROM:-0600
TZOFFSETTO:-0500
TZNAME:CDT
DTSTART:20210314T080000
END:DAYLIGHT
BEGIN:STANDARD
TZOFFSETFROM:-0500
TZOFFSETTO:-0600
TZNAME:CST
DTSTART:20211107T070000
END:STANDARD
BEGIN:DAYLIGHT
TZOFFSETFROM:-0600
TZOFFSETTO:-0500
TZNAME:CDT
DTSTART:20220313T080000
END:DAYLIGHT
BEGIN:STANDARD
TZOFFSETFROM:-0500
TZOFFSETTO:-0600
TZNAME:CST
DTSTART:20221106T070000
END:STANDARD
END:VTIMEZONE
BEGIN:VEVENT
DTSTART;VALUE=DATE:20210510
DTEND;VALUE=DATE:20210523
DTSTAMP:20260424T162134
CREATED:20210507T162435Z
LAST-MODIFIED:20210507T162436Z
UID:34793-1620604800-1621727999@safehandsrescue.org
SUMMARY:2021 Virtual Fur Ball Gala
DESCRIPTION:For the second year in a row\, our Fur Ball Gala is going virtual! Homeless animals need your support now more than ever. COVID-19 has already hurt so many companion animals across the country and more and more pets are being forced into homelessness. They won’t survive without your help. \nThis year we have a goal of raising $100\,000 for The Safe House\, our Kentucky property that you can read more about here. Specifically\, we need to turn the existing barn into an animal holding ward where dogs can receive proper care and reside in a safe\, clean environment until they make the journey up north. \nWith a completed animal holding ward Safe Hands will be able to accept animals right away…no waiting. Often just a few hours can mean the difference between life and death for dogs and cats who are hungry\, thirsty\, ill or injured\, or sometimes hours from giving birth or just newborn. \n$100\,000 is what it will cost us to create a safe space to care for animals before they make the trip up north. We can nourish their bodies and souls until they’re brought into the arms of their loving foster and forever families.
URL:https://safehandsrescue.org/event/2021-virtual-fur-ball-gala/
LOCATION:Virtual
CATEGORIES:Safe Hands Events
ATTACH;FMTTYPE=image/jpeg:https://safehandsrescue.org/wp-content/uploads/2021/05/006-SocialImages-Web-2800px-1-scaled.jpg
ORGANIZER;CN="Safe Hands Rescue":MAILTO:safehandsrescue@gmail.com
END:VEVENT
END:VCALENDAR